BEGIN:VCALENDAR
VERSION:2.0
PRODID:-//wp-events-plugin.com//6.4.7.1//EN
TZID:Europe/Madrid
X-WR-TIMEZONE:Europe/Madrid
BEGIN:VEVENT
UID:30@cdi.aytosanlorenzo.es
DTSTART;TZID=Europe/Madrid:20240223T093000
DTEND;TZID=Europe/Madrid:20240223T113000
DTSTAMP:20240208T080405Z
URL:https://cdi.aytosanlorenzo.es/eventos/encuentrate-loterias-pepito-herr
 anz/
SUMMARY:Encuentra&té: Loterías Pepito Herranz
DESCRIPTION:Ponente: Iván Herranz\n\n23 de febrero de 2024: 9:30 a
 11:30\n\nDuración 2 horas\n\nResumen:\n\nLos Encuentra&amp\;té son
 reuniones de profesionales y emprendedores donde se aprende de un tema
 nuevo (1 hora) y después se conoce a los asistentes. Os invitamos al
 desayuno buffet.\n\nEn este caso aprenderemos de una empresa dentro del
 ciclo "Empresas exitosas".
ATTACH;FMTTYPE=image/jpeg:https://cdi.aytosanlorenzo.es/wp-content/uploads
 /2023/05/Encuentrate-1.jpg
CATEGORIES:Encuentra &amp; té
LOCATION:Hotel Los Lanceros\, c/ Calvario\, 47\, San Lorenzo de El
 Escorial\, Madrid\, 28200\, España
X-APPLE-STRUCTURED-LOCATION;VALUE=URI;X-ADDRESS=c/ Calvario\, 47\, San
 Lorenzo de El Escorial\, Madrid\, 28200\,
 España;X-APPLE-RADIUS=100;X-TITLE=Hotel Los Lanceros:geo:0,0
END:VEVENT
BEGIN:VTIMEZONE
TZID:Europe/Madrid
X-LIC-LOCATION:Europe/Madrid
BEGIN:STANDARD
DTSTART:20231029T020000
TZOFFSETFROM:+0200
TZOFFSETTO:+0100
TZNAME:CET
END:STANDARD
END:VTIMEZONE
END:VCALENDAR